BEGIN:VCALENDAR
VERSION:2.0
PRODID:-// - ECPv6.15.12.2//NONSGML v1.0//EN
CALSCALE:GREGORIAN
METHOD:PUBLISH
X-ORIGINAL-URL:https://klappei.be
X-WR-CALDESC:Events voor 
REFRESH-INTERVAL;VALUE=DURATION:PT1H
X-Robots-Tag:noindex
X-PUBLISHED-TTL:PT1H
BEGIN:VTIMEZONE
TZID:Europe/Brussels
BEGIN:DAYLIGHT
TZOFFSETFROM:+0100
TZOFFSETTO:+0200
TZNAME:CEST
DTSTART:20250330T010000
END:DAYLIGHT
BEGIN:STANDARD
TZOFFSETFROM:+0200
TZOFFSETTO:+0100
TZNAME:CET
DTSTART:20251026T010000
END:STANDARD
BEGIN:DAYLIGHT
TZOFFSETFROM:+0100
TZOFFSETTO:+0200
TZNAME:CEST
DTSTART:20260329T010000
END:DAYLIGHT
BEGIN:STANDARD
TZOFFSETFROM:+0200
TZOFFSETTO:+0100
TZNAME:CET
DTSTART:20261025T010000
END:STANDARD
BEGIN:DAYLIGHT
TZOFFSETFROM:+0100
TZOFFSETTO:+0200
TZNAME:CEST
DTSTART:20270328T010000
END:DAYLIGHT
BEGIN:STANDARD
TZOFFSETFROM:+0200
TZOFFSETTO:+0100
TZNAME:CET
DTSTART:20271031T010000
END:STANDARD
END:VTIMEZONE
BEGIN:VEVENT
DTSTART;TZID=Europe/Brussels:20260422T140000
DTEND;TZID=Europe/Brussels:20260422T160000
DTSTAMP:20260422T121014
CREATED:20260312T135047Z
LAST-MODIFIED:20260312T135047Z
UID:1698-1776866400-1776873600@klappei.be
SUMMARY:Als vrouwen spreken - Kom Nederlands oefenen!
DESCRIPTION:Een nieuwe conversatiegroep voor vrouwen die Nederlands willen oefenen. \nWil je beter Nederlands leren spreken? Wil je meer durven praten? Kom dan naar onze gezellige groep\, enkel voor vrouwen! \nWanneer?Elke woensdag om 14u. \nWaar? \nFilmhuis Klappei\, Klappeistraat 2\, 2060 Antwerpen \n👩‍👧 KinderopvangEr is gratis kinderopvang. Je kan je kinderen meebrengen. \nGratis\, zonder inschrijven. \nIedereen is welkom. Je hoeft nog niet goed Nederlands te spreken. We helpen elkaar in een rustige en vriendelijke sfeer.
URL:https://klappei.be/event/als-vrouwen-spreken-kom-nederlands-oefenen-8/
CATEGORIES:Taal
ATTACH;FMTTYPE=image/png:https://klappei.be/wp-content/uploads/2026/03/vrouwen-spreken.png
END:VEVENT
BEGIN:VEVENT
DTSTART;TZID=Europe/Brussels:20260422T141500
DTEND;TZID=Europe/Brussels:20260422T160000
DTSTAMP:20260422T121014
CREATED:20260325T122034Z
LAST-MODIFIED:20260422T020210Z
UID:1818-1776867300-1776873600@klappei.be
SUMMARY:Kinderfilm:  Mary Anning
DESCRIPTION:In 1811 speurt Mary Anning\, een nieuwsgierig en dapper meisje van 12\, elke dag tussen de rotsen naar fossielen. Maar op een dag verdwijnt Mary’s vader\, en het enige wat hij achterlaat is een geheimzinnige tekening… \nOp zoek naar de waarheid achter de tekening\, ontdekt Mary veel meer dan alleen oude botten: ze beleeft spannende avonturen\, sluit nieuwe vriendschappen en leert over iets dat later ‘paleontologie’ zal heten – de wetenschap van het leven van vroeger. \n2025 | 72 min. | Taal: Nederlands
URL:https://klappei.be/event/kinderfilm-mary-anning/
LOCATION:Filmhuis Klappei\, Antwerpen
CATEGORIES:Film,Filmvertoning
ATTACH;FMTTYPE=image/jpeg:https://klappei.be/wp-content/uploads/2026/03/kinderfilm-mary-anning.jpg
END:VEVENT
BEGIN:VEVENT
DTSTART;TZID=Europe/Brussels:20260422T201500
DTEND;TZID=Europe/Brussels:20260422T223000
DTSTAMP:20260422T121014
CREATED:20260318T101556Z
LAST-MODIFIED:20260422T020046Z
UID:1760-1776888900-1776897000@klappei.be
SUMMARY:Les Baronnes
DESCRIPTION:Met Les Baronnes keert Nabil Ben Yadir terug naar het Brussel dat hij eerder al zo scherp neerzette in Les Barons\, maar dit keer door de ogen van een vrouw die haar leven opnieuw in handen neemt. \nDe 65-jarige Fatima ziet haar wereld instorten wanneer ze ontdekt dat haar man in Marokko een geheim tweede gezin heeft opgebouwd. In plaats van zich terug te trekken\, kiest ze ervoor om opnieuw te beginnen. Ze grijpt terug naar haar oude droom: het theater. Wat volgt is een ontroerende en vaak verrassend humoristische zoektocht naar vrijheid en zelfexpressie. \nLes Baronnes is een warme\, poëtische film die de kracht en veerkracht van (oudere) vrouwen centraal zet. Tegelijk is het een ode aan Brussel: een stad vol contrasten\, maar ook vol mogelijkheden en hoop. Met een subtiele balans tussen humor en ernst nodigt de film uit om stil te staan bij thema’s als identiteit en emancipatie\, op elke leeftijd. \nRegisseur: Mokhtaria Badaoui en Nabil Ben Yadir | Duur: 100′ | Land: België | Jaar: 2025 | Taal: Frans | Ondertitels: Nederlands | Genre: Komedie
URL:https://klappei.be/event/les-baronnes/
LOCATION:Filmhuis Klappei\, Antwerpen
CATEGORIES:Film,Filmvertoning
ATTACH;FMTTYPE=image/jpeg:https://klappei.be/wp-content/uploads/2026/03/les-baronnes.jpg
END:VEVENT
END:VCALENDAR